BEGIN:VCALENDAR
VERSION:2.0
PRODID:SchoolNow
CALSCALE:GREGORIAN
BEGIN:VEVENT
UID:c7ede6d0-866b-11ef-99f2-0affc98f998f
DTSTAMP:20241125T190623Z
SUMMARY:CDD Board Meeting - Oct. 2024 - Cancelled
LOCATION:3204 Heartleaf Ave. E.\, Panama City\, FL 32405
URL;VALUE=URI:http://www.sweetbayrescdd2.com/calendar/6790773/cdd-board-mee
 ting-oct-2024
DTSTART:20241018T150000Z
DTEND:20241018T160000Z
END:VEVENT
END:VCALENDAR
