BEGIN:VCALENDAR
VERSION:2.0
PRODID:SchoolNow
CALSCALE:GREGORIAN
BEGIN:VEVENT
UID:de08b0bc-866b-11ef-b00e-0a58a9feac02
DTSTAMP:20241125T185752Z
SUMMARY:CDD Board Meeting - Nov. 2024 - CANCELLED
LOCATION:3204 Heartleaf Ave. E.\, Panama City\, FL 32405
URL;VALUE=URI:http://www.sweetbayrescdd2.com/calendar/6790774/cdd-board-mee
 ting-nov-2024
DTSTART:20241115T160000Z
DTEND:20241115T170000Z
END:VEVENT
END:VCALENDAR
