BEGIN:VCALENDAR
VERSION:2.0
PRODID:SchoolNow
CALSCALE:GREGORIAN
BEGIN:VEVENT
UID:f29aef36-866b-11ef-981c-025a56834d95
DTSTAMP:20241206T205048Z
SUMMARY:CDD Board Meeting - Dec. 2024
LOCATION:3204 Heartleaf Ave. E.\, Panama City\, FL 32405
URL;VALUE=URI:http://www.sweetbayrescdd2.com/calendar/6790775/cdd-board-mee
 ting-dec-2024
DTSTART:20241213T190000Z
DTEND:20241213T200000Z
ATTACH;FILENAME=2024-12-13 Agenda Package.pdf;FMTTYPE=application/pdf:https
 ://campussuite-storage.s3.amazonaws.com/prod/1559226/9ca733f0-84c7-11ef-93
 ab-0affd9764f13/2888140/7c9e2f98-b413-11ef-836e-0affc6f45e71/file/2024-12-
 13 Agenda Package.pdf
END:VEVENT
END:VCALENDAR
