BEGIN:VCALENDAR
VERSION:2.0
PRODID:SchoolNow
CALSCALE:GREGORIAN
BEGIN:VEVENT
UID:10fc7634-866c-11ef-bbe5-0affc98f998f
DTSTAMP:20250110T181813Z
SUMMARY:CDD Board Meeting - Jan. 2025 - CANCELLED
LOCATION:3204 Heartleaf Ave. E.\, Panama City\, FL 32405
URL;VALUE=URI:http://www.sweetbayrescdd2.com/calendar/6790776/cdd-board-mee
 ting-jan-2025
DTSTART:20250117T160000Z
DTEND:20250117T170000Z
END:VEVENT
END:VCALENDAR
