BEGIN:VCALENDAR
VERSION:2.0
PRODID:SchoolNow
CALSCALE:GREGORIAN
BEGIN:VEVENT
UID:2a952122-866c-11ef-b00a-0a58a9feac02
DTSTAMP:20250214T214229Z
SUMMARY:CDD Board Meeting - Feb. 2025
LOCATION:3204 Heartleaf Ave. E.\, Panama City\, FL 32405
URL;VALUE=URI:http://www.sweetbayrescdd2.com/calendar/6790777/cdd-board-mee
 ting-feb-2025
DTSTART:20250221T160000Z
DTEND:20250221T170000Z
ATTACH;FILENAME=2025-02-21 Agenda Package.pdf;FMTTYPE=application/pdf:https
 ://campussuite-storage.s3.amazonaws.com/prod/1559226/9ca733f0-84c7-11ef-93
 ab-0affd9764f13/2916202/5701834e-eb1c-11ef-b031-0a58a9feac02/file/2025-02-
 21 Agenda Package.pdf
END:VEVENT
END:VCALENDAR
